BEGIN:VCALENDAR
VERSION:2.0
PRODID:-//Buckeye Hills Regional Council - ECPv6.15.20//NONSGML v1.0//EN
CALSCALE:GREGORIAN
METHOD:PUBLISH
X-WR-CALNAME:Buckeye Hills Regional Council
X-ORIGINAL-URL:https://buckeyehills.org
X-WR-CALDESC:Events for Buckeye Hills Regional Council
REFRESH-INTERVAL;VALUE=DURATION:PT1H
X-Robots-Tag:noindex
X-PUBLISHED-TTL:PT1H
BEGIN:VTIMEZONE
TZID:America/New_York
BEGIN:DAYLIGHT
TZOFFSETFROM:-0500
TZOFFSETTO:-0400
TZNAME:EDT
DTSTART:20220313T070000
END:DAYLIGHT
BEGIN:STANDARD
TZOFFSETFROM:-0400
TZOFFSETTO:-0500
TZNAME:EST
DTSTART:20221106T060000
END:STANDARD
BEGIN:DAYLIGHT
TZOFFSETFROM:-0500
TZOFFSETTO:-0400
TZNAME:EDT
DTSTART:20230312T070000
END:DAYLIGHT
BEGIN:STANDARD
TZOFFSETFROM:-0400
TZOFFSETTO:-0500
TZNAME:EST
DTSTART:20231105T060000
END:STANDARD
BEGIN:DAYLIGHT
TZOFFSETFROM:-0500
TZOFFSETTO:-0400
TZNAME:EDT
DTSTART:20240310T070000
END:DAYLIGHT
BEGIN:STANDARD
TZOFFSETFROM:-0400
TZOFFSETTO:-0500
TZNAME:EST
DTSTART:20241103T060000
END:STANDARD
END:VTIMEZONE
BEGIN:VEVENT
DTSTART;TZID=America/New_York:20230203T113000
DTEND;TZID=America/New_York:20230203T130000
DTSTAMP:20260423T054328
CREATED:20231024T181202Z
LAST-MODIFIED:20240213T151102Z
UID:51-1675423800-1675429200@buckeyehills.org
SUMMARY:Executive Committee Meeting
DESCRIPTION:The Buckeye Hills Regional Council Executive Committee meets on the first Friday of each month. \nThe Executive Committee is comprised of regional elected officials and private sector leaders who strive to increase the vitality of southeast Ohio. These individuals work together to prioritize regional strategies and strengthen the Buckeye Hills vision by impacting positive change in their own communities. \nThe Buckeye Hills Regional Council Executive Committee has 15 members comprised of the Mayors of the two largest cities in the District\, eight county representatives appointed by County Commissioners\, and five private sector representatives. \nMeetings are subject to change.\n———————————————————————–\nAll meetings are free and open to the public.
URL:https://buckeyehills.org/event/executive-committee-meeting-02-03-2023/
LOCATION:Buckeye Hills Regional Council (old address)\, 1400 Pike Street\, Marietta\, OH\, 45750\, United States
END:VEVENT
END:VCALENDAR